BEGIN:VCALENDAR
VERSION:2.0
PRODID:-//JAX Cooking Studio - ECPv6.15.17.1//NONSGML v1.0//EN
CALSCALE:GREGORIAN
METHOD:PUBLISH
X-WR-CALNAME:JAX Cooking Studio
X-ORIGINAL-URL:https://jaxcookingstudio.com
X-WR-CALDESC:Events for JAX Cooking Studio
REFRESH-INTERVAL;VALUE=DURATION:PT1H
X-Robots-Tag:noindex
X-PUBLISHED-TTL:PT1H
BEGIN:VTIMEZONE
TZID:America/New_York
BEGIN:DAYLIGHT
TZOFFSETFROM:-0500
TZOFFSETTO:-0400
TZNAME:EDT
DTSTART:20250309T070000
END:DAYLIGHT
BEGIN:STANDARD
TZOFFSETFROM:-0400
TZOFFSETTO:-0500
TZNAME:EST
DTSTART:20251102T060000
END:STANDARD
BEGIN:DAYLIGHT
TZOFFSETFROM:-0500
TZOFFSETTO:-0400
TZNAME:EDT
DTSTART:20260308T070000
END:DAYLIGHT
BEGIN:STANDARD
TZOFFSETFROM:-0400
TZOFFSETTO:-0500
TZNAME:EST
DTSTART:20261101T060000
END:STANDARD
BEGIN:DAYLIGHT
TZOFFSETFROM:-0500
TZOFFSETTO:-0400
TZNAME:EDT
DTSTART:20270314T070000
END:DAYLIGHT
BEGIN:STANDARD
TZOFFSETFROM:-0400
TZOFFSETTO:-0500
TZNAME:EST
DTSTART:20271107T060000
END:STANDARD
END:VTIMEZONE
BEGIN:VEVENT
DTSTART;TZID=America/New_York:20260614T183000
DTEND;TZID=America/New_York:20260614T210000
DTSTAMP:20260425T083626
CREATED:20260415T214349Z
LAST-MODIFIED:20260415T214349Z
UID:10008549-1781461800-1781470800@jaxcookingstudio.com
SUMMARY:Stranger Things Inspired Dinner
DESCRIPTION:Stranger Things Inspired Dinner\nStep into the small town of Hawkins and prepare for a culinary journey through the parallel dimension with this “Stranger Things” themed cooking class. You will learn to master iconic recipes while transforming everyday ingredients into supernatural super foods that look like they came straight out of the Upside Down. Complimentary wine will be available to adults during the cooking experience. \nMenu \nHawkins Lab Slime Dip: A bubbling\, “radioactive” blend of artichokes and spinach baked into a gooey cream cheese and mozzarella base.\nThe Eleven Special: Crispy buttermilk fried chicken thighs served atop a yeasty\, golden-brown waffle for the ultimate sweet-and-savory tribute to Eleven’s favorite food.\nThe Pineapple Upside-Down World Cake: A moist vanilla and buttermilk cake that is literally flipped on its head to reveal a dark\, caramel-coated pineapple and cherry “portal” on top.\nRed or White Wine \nTickets & Gratuity:\nAll attendees require a ticket.\nEach individual ticket is for one person. (Yes – you can cook with your partner(s)!)\nThe Chef’s Kitchen for 2 is for two people. (See below for details)\nGratuity is not required but appreciated. \nChef’s Kitchen for 2: Guests in the Chef’s Kitchen cook the same menu as the rest of the class; however\, they use the chef’s gas cooktop in the Chef’s Kitchen\, and they dine at a special table set up for just them. (If you’re not in the Chef’s Kitchen\, you can still cook with your partner at an induction cooktop.) \nAge Policies:\nAll attendees require a ticket.\nChildren under 9 must be accompanied by a ticketed adult.\nChildren 9-11 may register in groups of two or more.\nChildren 12+ may register alone and may be seated with another single ticket holder. \nDietary Restrictions:\nWe’re happy to accommodate dietary restrictions and preferences. During the checkout process\, you will be asked to provide any dietary allergies or restrictions. The chefs will prepare your ingredient trays appropriately. Or\, if you have a preferred substitute ingredient\, you’re welcome to bring it with you. \nCancellation Policy:\nIf you are unable to attend the class for which you registered\, please inform us as soon as possible. If you notify us at least 7 days before the class date\, we will issue you a full refund of the class price less the cost of the credit card processing fees we encounter or a credit of the class price. If you notify us at least 5 days in advance\, we will issue a 1-yr credit for a future class. If you are not able to provide 5 days’ notice\, we will attempt to rebook the class. If we are successful\, we will provide you with a 1-yr credit which you may use on future classes. If we are not able to rebook the class\, we regret that no refund or store credit will be issued. By that time\, we will have committed staff and resources and purchased food based on our confirmed bookings. We hope you will make someone very happy by gifting your cooking class! \nIf you purchase 6 or more tickets for a single class\, we require a 30-day notice before the class date to cancel that reservation. In that instance\, we will issue you a credit valid for one year. No credit card refunds will be offered. \n 
URL:https://jaxcookingstudio.com/class/stranger-things-inspired-dinner-2/
LOCATION:JAX Cooking Studio\, 14035 Beach Boulevard\, Jacksonville\, FL\, 32224\, United States
CATEGORIES:Adults,Date Night,Family,Hands-on,International,Kids & Teens
ATTACH;FMTTYPE=image/jpeg:https://jaxcookingstudio.com/wp-content/uploads/2026/01/Stranger-Things-2-1.jpg
GEO:30.2883894;-81.4478549
X-APPLE-STRUCTURED-LOCATION;VALUE=URI;X-ADDRESS=JAX Cooking Studio 14035 Beach Boulevard Jacksonville FL 32224 United States;X-APPLE-RADIUS=500;X-TITLE=14035 Beach Boulevard:geo:-81.4478549,30.2883894
END:VEVENT
BEGIN:VEVENT
DTSTART;TZID=America/New_York:20260720T180000
DTEND;TZID=America/New_York:20260720T200000
DTSTAMP:20260425T083626
CREATED:20260127T212126Z
LAST-MODIFIED:20260130T215752Z
UID:10008408-1784570400-1784577600@jaxcookingstudio.com
SUMMARY:Stranger Things Inspired Dinner: Summer Cooking for Kids and Teens
DESCRIPTION:Our Monday evening Summer Cooking Series for Kids and Teens is the perfect way to get a break from the Florida heat. JAX Cooking Studio is THE place to be on Monday evenings where fun is baked right in! (Adults are optional!) \nJuly 20: Stranger Things Inspired Dinner\nStep into the small town of Hawkins and prepare for a culinary journey through the parallel dimension with this “Stranger Things” themed cooking class. Kids will learn to master iconic recipes while transforming everyday ingredients into supernatural super foods that look like they came straight out of the Upside Down. \nTickets & Gratuity:\nAll attendees require a ticket.\nEach individual ticket is for one person. (Yes – you can cook with your partner(s)!)\nGratuity is not required but appreciated. \nAge Policies:\nAll attendees require a ticket.\nClasses are intended for kids 7-17 years old. Children must be capable of following directions and cooperating with others in the class.\nKids work in teams or 2 or 3 to cook the recipes. \nDietary Restrictions:\nWe’re happy to accommodate dietary restrictions and preferences. During the checkout process\, you will be asked to provide any dietary allergies or restrictions. The chefs will prepare your ingredient trays appropriately. Or\, if you have a preferred substitute ingredient\, you’re welcome to bring it with you. \nCancellation Policy:\nIf you are unable to attend the class for which you registered\, please inform us as soon as possible. If you notify us at least 7 days before the class date\, we will issue you a full refund of the class price less the cost of the credit card processing fees we encounter or a credit of the class price. If you notify us at least 5 days in advance\, we will issue a 1-yr credit for a future class. If you are not able to provide 5 days’ notice\, we will attempt to rebook the class. If we are successful\, we will provide you with a 1-yr credit which you may use on future classes. If we are not able to rebook the class\, we regret that no refund or store credit will be issued. By that time\, we will have committed staff and resources and purchased food based on our confirmed bookings. We hope you will make someone very happy by gifting your cooking class! \nIf you purchase 6 or more tickets for a single class\, we require a 30-day notice before the class date to cancel that reservation. In that instance\, we will issue you a credit valid for one year. No credit card refunds will be offered. \nPOLICIES AND WAIVERS\nWhen you enroll your child in a JAX Cooking Studio session\, you indicate that you have read and accepted the policies\, procedures\, terms and conditions\, and waivers of liability set forth on this page or emailed to you before the start of the camp session. You assert that your child’s participation in the class is voluntary and you knowingly assume all risks associated therewith. This waiver specifically includes any claims made by you arising from the alleged negligent acts of JAX Cooking Studio\, all other members of its cooking studio staff whether contracted or employed\, agents\, and any related parent and/or subsidiary entities. This release shall be binding to the fullest extent permitted by law. If any provision of this release is found to be unenforceable\, the remaining terms shall be enforceable.
URL:https://jaxcookingstudio.com/class/stranger-things-inspired-dinner-summer-cooking-for-kids-and-teens/
LOCATION:JAX Cooking Studio\, 14035 Beach Boulevard\, Jacksonville\, FL\, 32224\, United States
CATEGORIES:Adults,Family,Hands-on,International,Kids & Teens,Summer Camp
ATTACH;FMTTYPE=image/jpeg:https://jaxcookingstudio.com/wp-content/uploads/2026/01/Monday-Night-Summer-Cooking.jpg
GEO:30.2883894;-81.4478549
X-APPLE-STRUCTURED-LOCATION;VALUE=URI;X-ADDRESS=JAX Cooking Studio 14035 Beach Boulevard Jacksonville FL 32224 United States;X-APPLE-RADIUS=500;X-TITLE=14035 Beach Boulevard:geo:-81.4478549,30.2883894
END:VEVENT
END:VCALENDAR