BEGIN:VCALENDAR
VERSION:2.0
PRODID:-//JAX Cooking Studio - ECPv6.15.17.1//NONSGML v1.0//EN
CALSCALE:GREGORIAN
METHOD:PUBLISH
X-ORIGINAL-URL:https://jaxcookingstudio.com
X-WR-CALDESC:Events for JAX Cooking Studio
REFRESH-INTERVAL;VALUE=DURATION:PT1H
X-Robots-Tag:noindex
X-PUBLISHED-TTL:PT1H
BEGIN:VTIMEZONE
TZID:America/New_York
BEGIN:DAYLIGHT
TZOFFSETFROM:-0500
TZOFFSETTO:-0400
TZNAME:EDT
DTSTART:20220313T070000
END:DAYLIGHT
BEGIN:STANDARD
TZOFFSETFROM:-0400
TZOFFSETTO:-0500
TZNAME:EST
DTSTART:20221106T060000
END:STANDARD
BEGIN:DAYLIGHT
TZOFFSETFROM:-0500
TZOFFSETTO:-0400
TZNAME:EDT
DTSTART:20230312T070000
END:DAYLIGHT
BEGIN:STANDARD
TZOFFSETFROM:-0400
TZOFFSETTO:-0500
TZNAME:EST
DTSTART:20231105T060000
END:STANDARD
BEGIN:DAYLIGHT
TZOFFSETFROM:-0500
TZOFFSETTO:-0400
TZNAME:EDT
DTSTART:20240310T070000
END:DAYLIGHT
BEGIN:STANDARD
TZOFFSETFROM:-0400
TZOFFSETTO:-0500
TZNAME:EST
DTSTART:20241103T060000
END:STANDARD
END:VTIMEZONE
BEGIN:VEVENT
DTSTART;TZID=America/New_York:20230901T143000
DTEND;TZID=America/New_York:20230901T170000
DTSTAMP:20260421T061814
CREATED:20230725T180832Z
LAST-MODIFIED:20230725T180832Z
UID:10006433-1693578600-1693587600@jaxcookingstudio.com
SUMMARY:Patriotic Macarons
DESCRIPTION:Join us for some Labor Day weekend fun making beautiful French macarons decorated in a patriotic theme! These delicate pastries are as much fun to make as they are delicious to eat\, so you are sure to have an enjoyable time in the cooking studio with our pastry chefs! Each guest will make and decorate their own batch of macarons. Complimentary wine will be served to adults. \nPricing:\n$70: per adult and children 14 years or older\n$125: One adult with one child 13 years or younger.\n$180: One adult with two children 13 years or younger.\nChef’s Kitchen: Guests in the Chef’s Kitchen cook the same menu as the rest of the class; however\, they use the gas cooktop and convection ovens in the Chef’s Kitchen\, and they dine at a special table set up for just them. \nAges:\nFamily Classes: Children of any age accompanied by an adult may attend Family cooking classes.\nChild-Only Classes: Children 7 or older may cook without an adult present in our “Kids” classes.\nAdult Classes: Children 16 or older may attend Adult classes with or without an adult. Children 14 or older may attend Adult classes if accompanied by someone 21 or older. \nCooking Station Assignments:\nTwo or three people who register together will cook the menu items with each other. Our goal is to have guests do as much as possible in the time allotted given the restrictions of appliances and cooktop space. If you purchase a single adult ticket\, you will be assigned to work at a station with another person who purchases a single ticket.\nEach person (adult and child) will receive enough ingredients to prepare a generous portion of every menu item or one cake per person for cake decorating classes. \nGratuity:\nLeaving a gratuity is not required but appreciated if you enjoyed your cooking experience.
URL:https://jaxcookingstudio.com/class/patriotic-macarons-4/
LOCATION:JAX Cooking Studio\, 14035 Beach Boulevard\, Jacksonville\, FL\, 32224\, United States
CATEGORIES:Adults,Family,Hands-on,International,Kids & Teens,Make and Take
ATTACH;FMTTYPE=image/jpeg:https://jaxcookingstudio.com/wp-content/uploads/2021/12/Macarons-Red-White-and-Blue-900x675-1-jpg.webp
GEO:30.2883894;-81.4478549
X-APPLE-STRUCTURED-LOCATION;VALUE=URI;X-ADDRESS=JAX Cooking Studio 14035 Beach Boulevard Jacksonville FL 32224 United States;X-APPLE-RADIUS=500;X-TITLE=14035 Beach Boulevard:geo:-81.4478549,30.2883894
END:VEVENT
END:VCALENDAR